BEGIN:VCALENDAR
VERSION:2.0
CALSCALE:GREGORIAN
PRODID:adamgibbons/ics
METHOD:PUBLISH
X-PUBLISHED-TTL:PT1H
BEGIN:VEVENT
UID:13954@bcn.convoca.la
SUMMARY:Xerrada de IsardVDI: d'escriptoris virtuals a executar IA locals
DTSTAMP:20260420T221503Z
DTSTART:20260428T170000Z
URL:https://bcn.convoca.la/event/xerrada-de-isardvdi-descriptoris-virtuals-
	a-executar-ia-locals
GEO:41.4109472;2.1912192
LOCATION:AKASHA Hub Barcelona - AKASHA Hub Barcelona\, 19\, Nave 1\, Carrer
	 de la Verneda\, el Clot\, Sant Martí\, Barcelona\, Barcelonès\, Barcelona
	\, Catalunya\, 08018\, España
STATUS:CONFIRMED
CATEGORIES:free software,programari lliure
END:VEVENT
END:VCALENDAR
